BEGIN:VCALENDAR
BEGIN:VEVENT
SUMMARY:Bar Laika presents Playback 0029: Victoria Keddie [nycnoise]
DTSTART:20260311T220000Z
DTEND:20260311T230000Z
UID:cecc1d6d-9de1-4cda-b6bb-fffa5b31c901
CREATED:20260425T130549Z
DESCRIPTION:prolly not live
LOCATION:bar laika (224 greene ave\, brooklyn)
END:VEVENT
END:VCALENDAR
