BEGIN:VCALENDAR
BEGIN:VEVENT
SUMMARY:Bar Laika presents Playback 0030: Selwa Abd [nycnoise]
DTSTART:20260325T220000Z
DTEND:20260325T230000Z
UID:2784560b-0f74-4750-b74a-3ca3787f75d4
CREATED:20260425T130851Z
DESCRIPTION:maybe not live?
LOCATION:bar laika (224 greene ave\, brooklyn)
END:VEVENT
END:VCALENDAR
