BEGIN:VCALENDAR
BEGIN:VEVENT
SUMMARY:The Cramer Quartet\, Darian Donovan Thomas [nycnoise]
DTSTART:20260208T000000Z
DTEND:20260208T010000Z
UID:9d33d6fa-8471-46ac-b46b-71c2d123c62a
CREATED:20260425T145324Z
DESCRIPTION:
LOCATION:cell theatre (338 W 23rd St\, New York\, NY 10011)
END:VEVENT
END:VCALENDAR
