BEGIN:VCALENDAR
BEGIN:VEVENT
SUMMARY:Brittany Karlson\, Nikita Manin & Isaac Dubow [nycnoise]
DTSTART:20260214T010000Z
DTEND:20260214T020000Z
UID:b0e195bd-31fb-47c1-9eaf-90de12b93536
CREATED:20260425T145149Z
DESCRIPTION:
LOCATION:lava club
END:VEVENT
END:VCALENDAR
