BEGIN:VCALENDAR
BEGIN:VEVENT
SUMMARY:Ilgenfritz Night #2/4: Aaron Pond\, Nahtal / Rocio Sanchez / James
  Ilgenfritz [nycnoise]
DTSTART:20260215T010000Z
DTEND:20260215T020000Z
UID:7f97991e-7b58-47a4-b35b-96fb2b4b2c66
CREATED:20260425T144427Z
DESCRIPTION:
LOCATION:lava club
END:VEVENT
END:VCALENDAR
