BEGIN:VCALENDAR
BEGIN:VEVENT
SUMMARY:Ilgenfritz Night #3/4: Katie Porter\, Dafna Naphtali / Che Buford 
 / James Ilgenfritz [nycnoise]
DTSTART:20260222T010000Z
DTEND:20260222T020000Z
UID:35d36cb8-fe52-410c-a7b4-86ae80b15deb
CREATED:20260425T145027Z
DESCRIPTION:
LOCATION:lava club
END:VEVENT
END:VCALENDAR
