BEGIN:VCALENDAR
BEGIN:VEVENT
SUMMARY:Ilgenfritz Night #4/4: Bill Brovold & Richard Carr\, Steve Swell &
  James Ilgenfritz [nycnoise]
DTSTART:20260301T010000Z
DTEND:20260301T020000Z
UID:e4e97a15-110b-40c8-b4bf-4b6a0151a5c3
CREATED:20260425T145028Z
DESCRIPTION:
LOCATION:lava club
END:VEVENT
END:VCALENDAR
