BEGIN:VCALENDAR
BEGIN:VEVENT
SUMMARY:Nmperign (Bhob Rainey & Greg Kelly) [nycnoise]
DTSTART:20260308T030000Z
DTEND:20260308T040000Z
UID:a45a3a20-df41-44d2-a7b7-2177c06aad84
CREATED:20260425T130835Z
DESCRIPTION:
LOCATION:lava club
END:VEVENT
END:VCALENDAR
