BEGIN:VCALENDAR
BEGIN:VEVENT
SUMMARY:[dweller] Hush Harbour: Robert Aiki Aubrey Lowe\, Yaz Lancaster\, 
 Bongowattz [nycnoise]
DTSTART:20260220T000000Z
DTEND:20260220T010000Z
UID:8ece57ee-ce52-4d70-aabf-e8b111ea706e
CREATED:20260425T145027Z
DESCRIPTION:🇵🇸 PACBI (dweller! about + full)
LOCATION:public records (233 butler st.\, brooklyn)
END:VEVENT
END:VCALENDAR
