BEGIN:VCALENDAR
BEGIN:VEVENT
SUMMARY:the spookfish: 'Bear in the Snow' Play & Hang [nycnoise]
DTSTART:20260205T010000Z
DTEND:20260205T020000Z
UID:73e70310-ff35-4816-b65b-f6c8f880926a
CREATED:20260425T145027Z
DESCRIPTION:[not live music\, live gameplay]
LOCATION:wonderville (1186 broadway\, brooklyn)
END:VEVENT
END:VCALENDAR
