BEGIN:VCALENDAR
BEGIN:VEVENT
SUMMARY:Tackycardia: Le Camille\, Actuator\, Duriya\, DJ girlcrush\, Cryos
 tatik\, Alex Viper [nycnoise]
DTSTART:20260221T010000Z
DTEND:20260221T020000Z
UID:3eee8984-eec8-4fcf-a6e0-f43bfd44fe5e
CREATED:20260425T145108Z
DESCRIPTION:
LOCATION:wonderville (1186 broadway\, brooklyn)
END:VEVENT
END:VCALENDAR
