BEGIN:VCALENDAR
BEGIN:VEVENT
SUMMARY:Pinto #3/9: Paul Pinto: 'MANO A MANO: an operatic monodrama' (ft. 
 Erin Rogers\, Zach Herchen\, Dennis Sullivan) [nycnoise]
DTSTART:20260215T000000Z
DTEND:20260215T010000Z
UID:5af34751-a94e-45fb-b701-313ce1805f50
CREATED:20260425T144853Z
DESCRIPTION:
LOCATION:la mama (66 e. 4th st.\, 2nd fl.\, mnhtn)
END:VEVENT
END:VCALENDAR
