BEGIN:VCALENDAR
BEGIN:VEVENT
SUMMARY:Pinto #5/9: Paul Pinto: 'MANO A MANO: an operatic monodrama' (ft. 
 Erin Rogers\, Zach Herchen\, Dennis Sullivan) [nycnoise]
DTSTART:20260217T000000Z
DTEND:20260217T010000Z
UID:6be5c9f4-436c-4081-a11b-3d446de809e0
CREATED:20260425T145026Z
DESCRIPTION:
LOCATION:la mama (66 e. 4th st.\, 2nd fl.\, mnhtn)
END:VEVENT
END:VCALENDAR
