BEGIN:VCALENDAR
BEGIN:VEVENT
SUMMARY:Pinto #7/9: Paul Pinto: 'MANO A MANO: an operatic monodrama' (ft. 
 Erin Rogers\, Zach Herchen\, Dennis Sullivan) [nycnoise]
DTSTART:20260221T000000Z
DTEND:20260221T010000Z
UID:96c5569c-20ac-43b5-a72c-be87e8b1d253
CREATED:20260425T145026Z
DESCRIPTION:
LOCATION:la mama (66 e. 4th st.\, 2nd fl.\, mnhtn)
END:VEVENT
END:VCALENDAR
