BEGIN:VCALENDAR
BEGIN:VEVENT
SUMMARY:Pinto #9/9: Paul Pinto: 'MANO A MANO: an operatic monodrama' (ft. 
 Erin Rogers\, Zach Herchen\, Dennis Sullivan) [nycnoise]
DTSTART:20260222T190000Z
DTEND:20260222T200000Z
UID:ff4405bb-07d5-4416-8c4b-5240e9eb3a8e
CREATED:20260425T145151Z
DESCRIPTION:
LOCATION:la mama (66 e. 4th st.\, 2nd fl.\, mnhtn)
END:VEVENT
END:VCALENDAR
