BEGIN:VCALENDAR
BEGIN:VEVENT
SUMMARY:Scarlet Rae\, Zachshots [nycnoise]
DTSTART:20260207T000000Z
DTEND:20260207T010000Z
UID:1a1bd0b3-f70b-402f-bb64-01d0d01b2b46
CREATED:20260425T144941Z
DESCRIPTION:
LOCATION:public records (233 butler st.\, brooklyn)
END:VEVENT
END:VCALENDAR
