BEGIN:VCALENDAR
BEGIN:VEVENT
SUMMARY:Music From Japan Festival 2026: Momenta Quartet [nycnoise]
DTSTART:20260213T000000Z
DTEND:20260213T010000Z
UID:e7acb05d-46ff-40eb-b48b-0248208d3e35
CREATED:20260425T145022Z
DESCRIPTION:"works by Michiru Nakamura\, Shintaro Shibayama\, Somei Satoh\
 , Hikaru Hiyashi\, Chiku Komiya\, Madoka Mori"
LOCATION:scandinavia house (58 park ave\, manhattan)
END:VEVENT
END:VCALENDAR
