BEGIN:VCALENDAR
BEGIN:VEVENT
SUMMARY:Heart on Your Sleeve: A Valentine's Matinee: Rebelmatic\, Angelgri
 t\, 4th Floor Massive\, Dragons at Noon [nycnoise]
DTSTART:20260214T200000Z
DTEND:20260214T210000Z
UID:501250c1-f4c7-4be4-a1ba-469bfb3f24a4
CREATED:20260425T145109Z
DESCRIPTION:m
LOCATION:bar freda (801 seneca ave\, ridgewood)
END:VEVENT
END:VCALENDAR
