BEGIN:VCALENDAR
BEGIN:VEVENT
SUMMARY:Agriculture\, Ekko Astral\, Peace Through Strength [nycnoise]
DTSTART:20260215T000000Z
DTEND:20260215T010000Z
UID:03196485-f94a-4295-b462-18701c7d7759
CREATED:20260425T145026Z
DESCRIPTION:
LOCATION:baby's all right (146 broadway\, brooklyn)
END:VEVENT
END:VCALENDAR
