BEGIN:VCALENDAR
BEGIN:VEVENT
SUMMARY:Third Man Records Indie Label Fair [nycnoise]
DTSTART:20260208T160000Z
DTEND:20260208T170000Z
UID:9160291d-a86d-4f5d-be01-6aee7ad7021e
CREATED:20260425T145026Z
DESCRIPTION:
LOCATION:baby's all right (146 broadway\, brooklyn)
END:VEVENT
END:VCALENDAR
