BEGIN:VCALENDAR
BEGIN:VEVENT
SUMMARY:Rent Fundraiser Show #2/2: Aaron Yanda / Liam Hastings / Drew Brow
 nstein\, Alana Amore Colvin\, Gían Pérez\, Kevin Eichenberger & friends 
 [nycnoise]
DTSTART:20260210T000000Z
DTEND:20260210T010000Z
UID:6c2a2ab2-06cc-4831-9257-b124be99fc2e
CREATED:20260425T145149Z
DESCRIPTION:"With a switch up on our rent payment schedule\, we gotta get 
 some money together fast!" // you can&nbsp\;donate via open collective or 
 venmo !
LOCATION:brothers wash & dry laundromat (5420 nurge ave\, queens)
END:VEVENT
END:VCALENDAR
