BEGIN:VCALENDAR
BEGIN:VEVENT
SUMMARY:Sonic Seduction: Coco Prosecco\, Bella Mode\, BABEITSPURR\, Indigo
  Heaven\, KIMKILLA\, Nymph [nycnoise]
DTSTART:20260211T030000Z
DTEND:20260211T040000Z
UID:b1fd32c3-cb60-4eb5-b573-bda0d04ab8f9
CREATED:20260425T145109Z
DESCRIPTION:
LOCATION:bossa nova civic club (1271 myrtle ave\, brooklyn)
END:VEVENT
END:VCALENDAR
