BEGIN:VCALENDAR
BEGIN:VEVENT
SUMMARY:Hysteria: Beard (Kiss Kiss x Scruff Angel)\, DJ TBD\, Sister Zo\, 
 Female (maenad x Zeigler) [nycnoise]
DTSTART:20260212T030000Z
DTEND:20260212T040000Z
UID:63225fef-c4f3-449b-b235-b0f92f5ee9d1
CREATED:20260425T145110Z
DESCRIPTION:
LOCATION:bossa nova civic club (1271 myrtle ave\, brooklyn)
END:VEVENT
END:VCALENDAR
