BEGIN:VCALENDAR
BEGIN:VEVENT
SUMMARY:ENDE TYMES 16 –– Festival of Noise & Sonic Liberation –– N
 ight #3/3: Shot Dog\, Las Sucias\, Jeph Jerman\, Relay For Death\, Pedestr
 ian Deposit\, Raven Chacon & Iggor Cavalera [nycnoise]
DTSTART:20260419T000000Z
DTEND:20260419T010000Z
UID:a5f58e08-64ae-48d3-a316-0b1dcd1160e1
CREATED:20260425T110832Z
DESCRIPTION:🇵🇸&nbsp\;PACBI (ende tymes!) +++ 7pm doors\; become a me
 mber to get weekend pass &amp\; swag for $100!! // SD: Tyler Keen &amp\; K
 iran Arora\; LS: Danishta Rivero &amp\; Alexandra Buschman-Roman\; RFD: Ra
 chal &amp\; Roxann Spikula\; PD: Shannon A. Kennedy &amp\; J. Borges // or
 ganized by Bob Bellerue &amp\; Jackson Kovalchik\;&nbsp\;full fest lineup 
 + artist bios
LOCATION:pioneer works (159 pioneer st.\, brooklyn)
END:VEVENT
END:VCALENDAR
