BEGIN:VCALENDAR
BEGIN:VEVENT
SUMMARY:The Shape of Jizz to Cum: Ka Baird\, more eaze + gabby fluke-mogul
  [nycnoise]
DTSTART:20260304T010000Z
DTEND:20260304T020000Z
UID:8611f0ed-7a81-4804-bdd1-53b1c0203284
CREATED:20260425T130703Z
DESCRIPTION:7:30pm doors
LOCATION:singers (30 Kosciuszko St\, Brooklyn\, NY 11205)
END:VEVENT
END:VCALENDAR
