BEGIN:VCALENDAR
BEGIN:VEVENT
SUMMARY:The Rizzos' Never Annual Valentine's Day Prom: The Royal They\, De
 bbie Dopamine\, Sammi Lanzetta\, The Rizzos [nycnoise]
DTSTART:20260215T000000Z
DTEND:20260215T010000Z
UID:38cc4209-c230-4e63-bb62-a2cf6cb8bba7
CREATED:20260425T144940Z
DESCRIPTION:
LOCATION:gutter (200 n. 14th st.\, brooklyn)
END:VEVENT
END:VCALENDAR
