BEGIN:VCALENDAR
BEGIN:VEVENT
SUMMARY:Dr. S+M will Present Sounds [nycnoise]
DTSTART:20260220T000000Z
DTEND:20260220T010000Z
UID:d343f287-3bb3-494d-b974-01597c232ed7
CREATED:20260425T144859Z
DESCRIPTION:🌀 notaflof work trade\; 🧣 dress warm
LOCATION:light & sound design
END:VEVENT
END:VCALENDAR
