BEGIN:VCALENDAR
BEGIN:VEVENT
SUMMARY:Movement Research: Ariana Speight\, Andrea Soto\, Stephanie Hewett
 \, Nattie Trogdon + Hollis Bartlett [nycnoise]
DTSTART:20260316T230000Z
DTEND:20260317T000000Z
UID:aa34ac50-ac66-4d1f-812f-a4dd4a3dd8dc
CREATED:20260425T131245Z
DESCRIPTION:"event includes auditive guidance"
LOCATION:movement research at judson (55 washington sq south\, manhattan)
END:VEVENT
END:VCALENDAR
