BEGIN:VCALENDAR
BEGIN:VEVENT
SUMMARY:Nice Try\, Kid #27: Kirk Schoenherr\, Tim Dahl / Patrick Holmes / 
 Rob Heath [nycnoise]
DTSTART:20260225T010000Z
DTEND:20260225T020000Z
UID:98158e3d-586d-4eb2-a90c-e9cdf92f5079
CREATED:20260425T145021Z
DESCRIPTION:
LOCATION:troost (1011 manhattan ave\, brooklyn)
END:VEVENT
END:VCALENDAR
