BEGIN:VCALENDAR
BEGIN:VEVENT
SUMMARY:Waveform: S'aint Panic\, SIETE\, menofilter\, Matas [nycnoise]
DTSTART:20260224T030000Z
DTEND:20260224T040000Z
UID:56faddd3-7e31-4d15-9546-5b18b30e6ae7
CREATED:20260425T145027Z
DESCRIPTION:
LOCATION:bossa nova civic club (1271 myrtle ave\, brooklyn)
END:VEVENT
END:VCALENDAR
