BEGIN:VCALENDAR
BEGIN:VEVENT
SUMMARY:Jonathon Haffner / Michael Coleman / Dalius Naujo\, Invisible Guy 
 (Ben Goldberg\, Michael Coleman\, Hamir Atwal) [nycnoise]
DTSTART:20260216T000000Z
DTEND:20260216T010000Z
UID:599fbcb9-4ed7-4337-a105-2632a095a49e
CREATED:20260425T144940Z
DESCRIPTION:7pm-8:45pm JH / MC / DN\, 9pm-11pm IG
LOCATION:big bar (75 E 7th St\, New York\, NY 10003)
END:VEVENT
END:VCALENDAR
