BEGIN:VCALENDAR
BEGIN:VEVENT
SUMMARY:Jonathon Haffner / Yusuke Yamamoto / Dalius Naujo [nycnoise]
DTSTART:20260302T010000Z
DTEND:20260302T020000Z
UID:36471156-f800-4f7f-9f2b-87ed52cfdf9f
CREATED:20260425T130733Z
DESCRIPTION:
LOCATION:big bar (75 E 7th St\, New York\, NY 10003)
END:VEVENT
END:VCALENDAR
