BEGIN:VCALENDAR
BEGIN:VEVENT
SUMMARY:Phantom Honeymoon (Steve Holtje & Alexandra Beneski)\, Dizzy Venti
 lators (Yusuke Yamamoto & Daniel Jodocy) [nycnoise]
DTSTART:20260309T000000Z
DTEND:20260309T010000Z
UID:4521b0b2-c12f-4953-bff4-b0d48fd07620
CREATED:20260425T130727Z
DESCRIPTION:8pm-9pm PH\, 9pm-11pm DV
LOCATION:big bar (75 E 7th St\, New York\, NY 10003)
END:VEVENT
END:VCALENDAR
