BEGIN:VCALENDAR
BEGIN:VEVENT
SUMMARY:Eyal Maoz Band\, Dizzy Ventilators (Yusuke Yamamoto & Daniel Jodoc
 y) [nycnoise]
DTSTART:20260315T230000Z
DTEND:20260316T000000Z
UID:b17a3d07-2b58-45a9-90bf-e6894120f3e1
CREATED:20260425T131036Z
DESCRIPTION:7pm-8:30pm EMB\, 9pm-11pm DV
LOCATION:big bar (75 E 7th St\, New York\, NY 10003)
END:VEVENT
END:VCALENDAR
