BEGIN:VCALENDAR
BEGIN:VEVENT
SUMMARY:Offerings: Jordan Deal\, Fred Moten + Brandon Lopez\, This Time’
 s Quartet (Elsa Saade\, Tracy Chahwan\, Layale Chaker\, Erik Ruin) [nycnoi
 se]
DTSTART:20260214T003000Z
DTEND:20260214T013000Z
UID:e31b95d4-a9d9-4f42-8f6d-d338a44e229c
CREATED:20260425T145238Z
DESCRIPTION:7pm doors\; adv sold out\, but limited tix at door
LOCATION:church of st. mary the virgin (145 W 46th St\, New York\, NY 1003
 6)
END:VEVENT
END:VCALENDAR
