BEGIN:VCALENDAR
BEGIN:VEVENT
SUMMARY:Offerings: Lena Engelstein & Lisa Fagan\, River L. Ramirez\, evan 
 ray suzuki [nycnoise]
DTSTART:20260313T233000Z
DTEND:20260314T003000Z
UID:4a99f04b-dd3d-4042-b5e4-1d138524b683
CREATED:20260425T130835Z
DESCRIPTION:7pm doors
LOCATION:church of st. mary the virgin (145 W 46th St\, New York\, NY 1003
 6)
END:VEVENT
END:VCALENDAR
