BEGIN:VCALENDAR
BEGIN:VEVENT
SUMMARY:Offerings: Garrett Allen\, Justin Cabrillos\, Moriah Evans [nycnoi
 se]
DTSTART:20260417T233000Z
DTEND:20260418T003000Z
UID:c429e5ed-b0fb-4c1a-a2a7-dd4ef1a43743
CREATED:20260425T111027Z
DESCRIPTION:7pm doors
LOCATION:church of st. mary the virgin (145 W 46th St\, New York\, NY 1003
 6)
END:VEVENT
END:VCALENDAR
