BEGIN:VCALENDAR
BEGIN:VEVENT
SUMMARY:Show Me The Body: Corpus Family Record Cover Shoot [nycnoise]
DTSTART:20260215T190000Z
DTEND:20260215T200000Z
UID:e2ad0112-5d8c-4bbe-ad61-6a7875b4b785
CREATED:20260425T145323Z
DESCRIPTION:not live\, but there will be music\; 🧣 dress warm\, tho "wa
 rm stations will be available"\; remember that we don't use partiful (i'll
  message the crew!)
LOCATION:tompkins square park (E 10th St\, New York\, NY 10009)
END:VEVENT
END:VCALENDAR
