BEGIN:VCALENDAR
BEGIN:VEVENT
SUMMARY:Landscapes of Silence\, Day #1/2: InfraSound\, Eva Maria Houben [n
 ycnoise]
DTSTART:20260222T003000Z
DTEND:20260222T013000Z
UID:2d2ac202-3cd6-43df-84b9-c4726f5a60fc
CREATED:20260425T145238Z
DESCRIPTION:
LOCATION:holy trinity lutheran church (3 w. 65th st.\, manhattan)
END:VEVENT
END:VCALENDAR
