BEGIN:VCALENDAR
BEGIN:VEVENT
SUMMARY:Victoria Keddie\, Vampÿrates (Richard Sylvarnes & Bradley Eros) [
 nycnoise]
DTSTART:20260216T010000Z
DTEND:20260216T020000Z
UID:588223eb-793f-461d-a4a5-eeed05aef68f
CREATED:20260425T145109Z
DESCRIPTION:7:30pm doors
LOCATION:synesthesia
END:VEVENT
END:VCALENDAR
