BEGIN:VCALENDAR
BEGIN:VEVENT
SUMMARY:Wormhole: Maya Keren\, Worldwide Seagull\, American Seraphim [nycn
 oise]
DTSTART:20260302T000000Z
DTEND:20260302T010000Z
UID:a7c9904e-8dac-4181-91ab-876344156f7e
CREATED:20260425T131000Z
DESCRIPTION:
LOCATION:brothers wash & dry laundromat (5420 nurge ave\, queens)
END:VEVENT
END:VCALENDAR
