BEGIN:VCALENDAR
BEGIN:VEVENT
SUMMARY:Eli Wallace / Marija Kovačević / rocío sánchez\, Miranda Agnew
  / sánchez / Orchid McRae [nycnoise]
DTSTART:20260314T230000Z
DTEND:20260315T000000Z
UID:50fdb1c4-b71d-497f-ab3d-0b078baf5aeb
CREATED:20260425T130959Z
DESCRIPTION:updated link asap
LOCATION:brothers wash & dry laundromat (5420 nurge ave\, queens)
END:VEVENT
END:VCALENDAR
