BEGIN:VCALENDAR
BEGIN:VEVENT
SUMMARY:Nathan Chamberlain / Miranda Agnew / Orchid McRae / rocío sánche
 z / Stan Zenkov\, Trevor Bajus / Marcus Cummins / Eric Eble / Mike Golub\,
  Jeff Pearring & Charley Sabatino [nycnoise]
DTSTART:20260320T230000Z
DTEND:20260321T000000Z
UID:ab687bd2-575e-4d0f-93bd-b7a323c10abe
CREATED:20260425T131246Z
DESCRIPTION:
LOCATION:brothers wash & dry laundromat (5420 nurge ave\, queens)
END:VEVENT
END:VCALENDAR
