BEGIN:VCALENDAR
BEGIN:VEVENT
SUMMARY:rocío sánchez\, isabel crespo pardo\, Stephanie Borgari\, Selend
 is Sebastian Alexander Johnson [nycnoise]
DTSTART:20260321T230000Z
DTEND:20260322T000000Z
UID:286c0153-de19-492d-85f8-8a3c419dcde2
CREATED:20260425T130030Z
DESCRIPTION:
LOCATION:brothers wash & dry laundromat (5420 nurge ave\, queens)
END:VEVENT
END:VCALENDAR
