BEGIN:VCALENDAR
BEGIN:VEVENT
SUMMARY:Darja Goldberg\, Selendis Sebastian Alexander Johnson\, Natalia Ca
 talan\, Shiloh Blue [nycnoise]
DTSTART:20260403T230000Z
DTEND:20260404T000000Z
UID:098770a0-a4c5-4329-a607-f1b0487c52b6
CREATED:20260425T111026Z
DESCRIPTION:
LOCATION:brothers wash & dry laundromat (5420 nurge ave\, queens)
END:VEVENT
END:VCALENDAR
