BEGIN:VCALENDAR
BEGIN:VEVENT
SUMMARY:Mood Ring presents Year of the Fire Horse: amita\, Mui Mui\, Yello
 wtechnica\, ​Sam-E\, Kaili [nycnoise]
DTSTART:20260222T030000Z
DTEND:20260222T040000Z
UID:9e92ccae-7237-4209-a683-15da4fd8999a
CREATED:20260425T145238Z
DESCRIPTION:🌀 free before 11pm w/ rsvp
LOCATION:mood ring (1260 myrtle ave\, brooklyn)
END:VEVENT
END:VCALENDAR
