BEGIN:VCALENDAR
BEGIN:VEVENT
SUMMARY:Alternative Guitar Summit 2026: Joel Harrison\, Ben Monder\, Antho
 ny Pirog\, Wendy Eisenberg\, Tim Watson\, Emmanuel Michael\, Gilad Hekselm
 an\, Max Light [nycnoise]
DTSTART:20260219T000000Z
DTEND:20260219T010000Z
UID:fa3a6d0c-6e69-493f-b55f-923572010ce3
CREATED:20260425T145026Z
DESCRIPTION:
LOCATION:barbès (376 9th st.\, brooklyn)
END:VEVENT
END:VCALENDAR
