BEGIN:VCALENDAR
BEGIN:VEVENT
SUMMARY:Tim Berne / John Hébert / Gregg Belisle-Chi / Tim Angulo [nycnois
 e]
DTSTART:20260225T020000Z
DTEND:20260225T030000Z
UID:dd3cbe3e-fcb5-4496-bd18-ce3f32e322e1
CREATED:20260425T145330Z
DESCRIPTION:
LOCATION:lowlands (543 3rd ave\, brooklyn)
END:VEVENT
END:VCALENDAR
