BEGIN:VCALENDAR
BEGIN:VEVENT
SUMMARY:NAUGHTY OR NOISE: Deli Girls\, Dreamcrusher\, Kopi Romantiko\, Max
 i Hawkeye Canion\, Hisham A. Bharoocha [nycnoise]
DTSTART:20260227T043000Z
DTEND:20260227T053000Z
UID:4e416a62-4408-4573-a29f-9860db156f0e
CREATED:20260425T145329Z
DESCRIPTION:
LOCATION:broadway (1272 broadway\, brooklyn)
END:VEVENT
END:VCALENDAR
