BEGIN:VCALENDAR
BEGIN:VEVENT
SUMMARY:[dweller] The Nile: The Nile: A Guy Called Gerald\, Nkisi\, CARIST
 A\, Spurge\, Shawn Dub [nycnoise]
DTSTART:20260221T040000Z
DTEND:20260221T050000Z
UID:5d417e04-6b9a-4fed-afc1-8592627fd212
CREATED:20260425T145149Z
DESCRIPTION:🇵🇸 PACBI (dweller! about + full)
LOCATION:public records (233 butler st.\, brooklyn)
END:VEVENT
END:VCALENDAR
